BEGIN:VCALENDAR
VERSION:2.0
PRODID:-//Freischützen Lauwil//NONSGML kigkonsult.se iCalcreator 2.41.92//
CALSCALE:GREGORIAN
METHOD:PUBLISH
UID:35383936-3366-4234-a235-633763376430
X-WR-CALNAME:iCagenda
X-WR-CALDESC:Event Management Extension for Joomla!
X-WR-RELCALID:3E26604A-50F4-4449-8B3E-E4F4932D05B5
X-WR-TIMEZONE:UTC
BEGIN:VTIMEZONE
TZID:UTC
END:VTIMEZONE
BEGIN:VEVENT
UID:33633764-6435-4939-a230-393834636437
DTSTAMP:20260422T011810Z
CATEGORIES:externe Veranstaltungen
CLASS:PUBLIC
DESCRIPTION;ALTREP="CID:<FFFF__=0ABBE548DFE235B58f9e8a93d@coffeebean.com>":
 \nAlle 3 Jahre wieder ein gelungener Anlass.\nGruppenanmeldung möglichst b
 ald vornehmen\, da nur ca. 50 Gruppen teilnehmen können.
DTSTART:20261030T190000Z
DTEND:20261030T220000Z
GEO:+47.393192;+7.739987
LOCATION:SA Oberdorf
ORGANIZER:
SEQUENCE:1
SUMMARY:Onoldswyler Nachtschiessen 2026 - Tag 4
TRANSP:OPAQUE
URL:https://fslauwil.ch/index.php/kalender/onoldswyler-nachtschiessen-2026-
 tag-4
END:VEVENT
END:VCALENDAR
